BEGIN:VCALENDAR
VERSION:2.0
PRODID:-//OPE-SECTI - ECPv6.15.20//NONSGML v1.0//EN
CALSCALE:GREGORIAN
METHOD:PUBLISH
X-WR-CALNAME:OPE-SECTI
X-ORIGINAL-URL:https://www.opesecti.es
X-WR-CALDESC:Eventos para OPE-SECTI
REFRESH-INTERVAL;VALUE=DURATION:PT1H
X-Robots-Tag:noindex
X-PUBLISHED-TTL:PT1H
BEGIN:VTIMEZONE
TZID:Europe/Madrid
BEGIN:DAYLIGHT
TZOFFSETFROM:+0100
TZOFFSETTO:+0200
TZNAME:CEST
DTSTART:20240331T010000
END:DAYLIGHT
BEGIN:STANDARD
TZOFFSETFROM:+0200
TZOFFSETTO:+0100
TZNAME:CET
DTSTART:20241027T010000
END:STANDARD
BEGIN:DAYLIGHT
TZOFFSETFROM:+0100
TZOFFSETTO:+0200
TZNAME:CEST
DTSTART:20250330T010000
END:DAYLIGHT
BEGIN:STANDARD
TZOFFSETFROM:+0200
TZOFFSETTO:+0100
TZNAME:CET
DTSTART:20251026T010000
END:STANDARD
BEGIN:DAYLIGHT
TZOFFSETFROM:+0100
TZOFFSETTO:+0200
TZNAME:CEST
DTSTART:20260329T010000
END:DAYLIGHT
BEGIN:STANDARD
TZOFFSETFROM:+0200
TZOFFSETTO:+0100
TZNAME:CET
DTSTART:20261025T010000
END:STANDARD
END:VTIMEZONE
BEGIN:VEVENT
DTSTART;TZID=Europe/Madrid:20251203T100000
DTEND;TZID=Europe/Madrid:20251203T140000
DTSTAMP:20260424T115611
CREATED:20251201T134341Z
LAST-MODIFIED:20251201T134342Z
UID:10000155-1764756000-1764770400@www.opesecti.es
SUMMARY:Jornada Informativa Regional sobre Horizonte Europa 2026-2027: Clúster 5-Clima\, Clúster 6 y Misiones
DESCRIPTION:Badajoz\, 3 de diciembre de 2025 \nSalón de Actos del INTAEX\, Ctra. Cáceres s/n\, Finca Santa Engracia \n  \nAnte la próxima apertura del nuevo programa de trabajo bianual (2026-2027) del Programa Marco Europeo de Investigación e Innovación\, Horizonte Europa\, FUNDECYT-PCTEX a través de la Oficina de Proyectos Europeos OPE-SECTI\, junto con CICYTEX y el Centro para el Desarrollo Industrial (CDTI)\, organiza esta sesión informativa regional para presentar las novedades que ofrecerán el Clúster 5-Clima\, el Clúster 6 y las misiones asociadas.  \nSe presentarán las oportunidades de financiación 2026-2027 y el calendario de convocatorias del Clúster 5 «Clima\, Energía y Movilidad»\, concretamente en el destination de Clima\, del Clúster 6 “Alimentación\, Bioeconomía\, Recursos Naturales\, Agricultura y Medioambiente” así como de la Misión Suelo y de la Misión Adaptación al Cambio Climático.  \nJunto con la presentación\, varias iniciativas extremeñas con participación en proyectos europeos compartirán sus experiencias en el proceso seguido desde la ideación y alineamiento de la propuesta a las convocatorias hasta la consecución y posterior gestión del proyecto europeo\, aportándonos claves de su éxito y las ventajas de participar en proyectos internacionales.  \nLos asistentes que lo deseen podrán solicitar una reunión bilateral con CDTI para consultar su idea de proyecto. Para ello es necesario que envíen el documento de Idea de Proyecto a concha.civantos@fundecyt-pctex.es antes del día 2 de diciembre. La oficina OPE-SECTI les contactará para confirmar la hora de su reunión.  \nDescargue aquí el documento Idea de Proyecto. \n \n \n \nPrograma:\n10:00 – 10:15 h. – Bienvenida y apertura de las jornadas.  \n10:15 – 11:00 h. – Oportunidades de financiación 2026-2027 del Clúster 5-Clima\, Clúster 6 y misiones asociadas \nD. José Manuel González Vicente\, Representante español del Comité de Programa de Cluster 6 – CDTI \n11:00 – 11:45 h. – Mesa redonda de iniciativas exitosas en distintos programas de I+D+i europeos \n\nDña. María Catalán Balmaseda – Coop. ACTYVA\nDña. María de Guía Córdoba Ramos – UEx\nDña. Patricia Mora McGinity – Innogestiona\n\n11:45 – 12:00 h. – Primeros pasos para la presentación de propuestas de Horizon Europe.  \nD. José Manuel González Vicente\, Representante español del Comité de Programa de Cluster 6 – CDTI \n12:00 -14:00 h. – Reuniones bilaterales con CDTI \n(Indispensable\, enviar la plantilla de idea de proyecto a concha.civantos@fundecyt-pctex antes del día 02/12/2025 a las 10:00). \n  \nFORMULARIO DE REGISTRO:
URL:https://www.opesecti.es/event/jornada-informativa-regional-sobre-horizonte-europa-2026-2027-cluster-5-clima-cluster-6-y-misiones/
LOCATION:INTAEX\, Ctra. Cáceres s/n\, Finca Santa Engracia\, 06071
CATEGORIES:Internacional
ATTACH;FMTTYPE=image/jpeg:https://www.opesecti.es/wp-content/uploads/2025/11/BANNER-HORIZONTE-26-27.jpg
END:VEVENT
END:VCALENDAR